BEGIN:VCALENDAR
VERSION:2.0
PRODID:-//wp-events-plugin.com//7.2.3.1//EN
TZID:Europe/Paris
X-WR-TIMEZONE:Europe/Paris
BEGIN:VEVENT
UID:150@atst.osups.universite-paris-saclay.fr
DTSTART;TZID=Europe/Paris;VALUE=DATE:20260904
DTEND;TZID=Europe/Paris;VALUE=DATE:20260909
DTSTAMP:20260403T094938Z
URL:https://atst.osups.universite-paris-saclay.fr/calendrier/spearhead-sch
 ool/
SUMMARY:SPEARHEAD School – High-Energy Particles in the Heliosphere
DESCRIPTION:We are pleased to announce the SPEARHEAD School on High-Energy 
 Particles in the Heliosphere\, which will take place on 04–08 September 
 2026 in Kiel\, Germany\, hosted by Christian-Albrechts-Universität zu Kie
 l (CAU).\n\nThe school will provide hands-on training with SPEARHEAD (SPEc
 ification\, Analysis &amp\; Re-calibration of High Energy pArticle Data) t
 ools and data\, offering a practical and interactive learning experience. 
 It builds on the MSc course developed within the project\, for which the t
 eaching materials have been openly published.\n\nThe event will be held in
  a hybrid format (on-site and online) and is open to students\, early-care
 er researchers\, and other interested participants. Students can earn 3 EC
 TS credits\, based on active participation\, group project work\, and a sh
 ort report or presentation.\n\nA social programme will complement the scie
 ntific sessions\, including an excursion to Laboe and a visit to Kiel Rön
 ne.\n\nLinks:\n\n 	Scientific programme\n 	Registration form\n\nParticipat
 ion in the school is free of charge. Limited financial support is availabl
 e for students upon request in order to facilitate broad participation. Th
 e deadline for support applications is 30 April 2026.\n\nFollowing the sch
 ool\, Workshop 3 of the project will take place\, bringing together a broa
 der group of scientists to present and discuss the latest SPEARHEAD result
 s and developments.\n\n(Transmis par Manon Jarry)
CATEGORIES:Colloques, conférences et écoles
LOCATION:Kiel\, Kiel\, Kiel\, Allemagne
X-APPLE-STRUCTURED-LOCATION;VALUE=URI;X-ADDRESS=Kiel\, Kiel\, Allemagne;X-A
 PPLE-RADIUS=100;X-TITLE=Kiel:geo:0,0
END:VEVENT
BEGIN:VTIMEZONE
TZID:Europe/Paris
X-LIC-LOCATION:Europe/Paris
BEGIN:DAYLIGHT
DTSTART:20260329T030000
TZOFFSETFROM:+0100
TZOFFSETTO:+0200
TZNAME:CEST
END:DAYLIGHT
END:VTIMEZONE
END:VCALENDAR