BEGIN:VCALENDAR
VERSION:2.0
PRODID:-//wp-events-plugin.com//7.2.3.1//EN
TZID:Europe/Paris
X-WR-TIMEZONE:Europe/Paris
BEGIN:VEVENT
UID:135@atst.osups.universite-paris-saclay.fr
DTSTART;TZID=Europe/Paris;VALUE=DATE:20260622
DTEND;TZID=Europe/Paris;VALUE=DATE:20260627
DTSTAMP:20260216T224958Z
URL:https://atst.osups.universite-paris-saclay.fr/calendrier/sf2a-2026/
SUMMARY:Semaine de l'Astrophysique Française (Journées SF2A 2026)
DESCRIPTION:\nLes journées de la SF2A 2026 se tiendront du 22 au 26 juin 2
 026 à Grenoble. Les inscriptions sont ouvertes !\nVous trouverez les info
 rmations concernant les ateliers\, les sessions plénières\, les modalit
 és d’inscription\, les activités proposées et les différents aspects
  pratiques sur le site web.\n\n\nL'ATST organise un ateliers sur les relat
 ions Soleil-Terre (S07) et la communauté ATST participe à l'organisation
  de l'atelier IA et astrophysique (S19).\n\n\nVeuillez noter que le format
  des journées change légèrement\, avec un début le lundi en fin de mat
 inée et une fin le vendredi en fin de matinée. Ceci afin de permettre au
  plus grand nombre d’entre vous de voyager le lundi matin et le vendredi
  après-midi\, sans impacter la participation aux séances plénières et 
 aux ateliers. Nous vous espérons donc nombreux dès le lundi 11h\, jusqu
 ’au vendredi 12h !\n\nAussi\, dans un souci de simplification\, les insc
 riptions aux journées\, le paiement des frais d’inscription et la soumi
 ssion des abstracts sont maintenant centralisés au travers de votre compt
 e MaSF2A. Après paiement ou justification d'une exemption des frais d'ins
 cription (SOC\, LOC\, invités en session plénière\, porteur principal d
 'atelier\, doctorant\, étudiant)\, vous serez en mesure de déposer un ab
 stract.\n\nDates importantes:\n\n 	Les inscriptions sont ouvertes jusqu’
 au 2 juin inclus pour une participation en présentiel (y compris pour les
  étudiants\, doctorants\, porteurs d'ateliers\, orateurs de sessions plé
 nières)\, et jusqu’au 12 juin inclus pour une participation en ligne. L
 e tarif réduit est disponible jusqu’au 12 mai inclus.\n 	La soumission 
 des abstracts pour les ateliers est ouverte jusqu’au 10 avril inclus. Le
  programme définitif sera communiqué le 5 mai.\n\n\n\nSubventions post-d
 oc:\n\nVous êtes adhérent(e) SF2A à jour de votre cotisation et post-do
 c ou doctorant(e) à l’étranger et vous ne pourriez participer aux Jour
 nées SF2A sans un petit coup de pouce financier? Dans ce cas\, la SF2A pe
 ut vous allouer une subvention.\nSi vous êtes intéressé(e)\, merci d’
 envoyer\, avant le 2 mars à la Présidente de la SF2A\, avec copie au sec
 rétariat\, une lettre de « motivation » concise accompagnée d’un cou
 rt CV. Dites-nous à quelles sessions des Journées vous souhaitez partici
 per\, et la somme réaliste dont vous auriez besoin (inscription + héberg
 ement + transports) pour participer ou compléter un financement déjà pa
 rtiellement acquis. Le format de ces documents est libre.\nSi votre demand
 e est acceptée\, la SF2A vous remboursera les frais (ajustés aux montant
  réels)\, sur facture après la conférence. Une demande d’avance sera 
 toutefois possible.\n\nLe Conseil de la SF2A\n
CATEGORIES:Colloques, conférences et écoles
LOCATION:Université de Grenoble\, Domaine universitaire\, Saint-Martin-d'H
 ères\, France
X-APPLE-STRUCTURED-LOCATION;VALUE=URI;X-ADDRESS=Domaine universitaire\, Sai
 nt-Martin-d'Hères\, France;X-APPLE-RADIUS=100;X-TITLE=Université de Gren
 oble:geo:0,0
END:VEVENT
BEGIN:VTIMEZONE
TZID:Europe/Paris
X-LIC-LOCATION:Europe/Paris
BEGIN:DAYLIGHT
DTSTART:20260329T030000
TZOFFSETFROM:+0100
TZOFFSETTO:+0200
TZNAME:CEST
END:DAYLIGHT
END:VTIMEZONE
END:VCALENDAR