BEGIN:VCALENDAR
VERSION:2.0
PRODID:-//wp-events-plugin.com//7.2.3.1//EN
TZID:Europe/Paris
X-WR-TIMEZONE:Europe/Paris
BEGIN:VEVENT
UID:149@atst.osups.universite-paris-saclay.fr
DTSTART;TZID=Europe/Paris;VALUE=DATE:20260901
DTEND;TZID=Europe/Paris;VALUE=DATE:20260905
DTSTAMP:20260403T094159Z
URL:https://atst.osups.universite-paris-saclay.fr/calendrier/mercury-2026/
SUMMARY:Mercury 2026 – An International Meeting on Planet Mercury
DESCRIPTION:We are pleased to invite all researchers and members of the pla
 netary science community to participate in Mercury 2026\, the internationa
 l meeting dedicated to the study of planet Mercury. This year’s edition 
 will take place from 1 to 4 September 2026 at KU Leuven\, Belgium.\n\nMerc
 ury 2026 will bring together scientists involved in observations\, modelin
 g\, laboratory experiments\, and mission data analysis related to Mercury.
  A particular focus will be placed on the latest developments and discover
 ies from ESA-JAXA’s BepiColombo mission.\n\nThe meeting aims to coordina
 te community efforts\, assess emerging questions raised by BepiColombo\, a
 nd define priorities for future research and exploration of Mercury. It is
  the principal forum for decision-making and scientific strategy within th
 e Mercury research community.\n\nTopics will include: Interior structure a
 nd composition\, Surface evolution and volcanism\, Tectonics and planetary
  contraction\, Planet formation and differentiation\, Mercury’s exospher
 e and magnetosphere\, New results from the MESSENGER and BepiColombo missi
 ons.\n\nKey dates:\n\n 	Registration opening: 1 April 2026\n 	Abstract sub
 mission: 1 April – 30 June 2026\n 	Conference dates: 1–4 September 202
 6\n\n(Transmis par Léa Griton et Lina Hadid)
CATEGORIES:Colloques, conférences et écoles
LOCATION:Leuven\, Leuven\, Leuven\, Belgique
X-APPLE-STRUCTURED-LOCATION;VALUE=URI;X-ADDRESS=Leuven\, Leuven\, Belgique;
 X-APPLE-RADIUS=100;X-TITLE=Leuven:geo:0,0
END:VEVENT
BEGIN:VTIMEZONE
TZID:Europe/Paris
X-LIC-LOCATION:Europe/Paris
BEGIN:DAYLIGHT
DTSTART:20260329T030000
TZOFFSETFROM:+0100
TZOFFSETTO:+0200
TZNAME:CEST
END:DAYLIGHT
END:VTIMEZONE
END:VCALENDAR