BEGIN:VCALENDAR
VERSION:2.0
PRODID:-//wp-events-plugin.com//7.2.3.1//EN
TZID:Europe/Paris
X-WR-TIMEZONE:Europe/Paris
BEGIN:VEVENT
UID:132@atst.osups.universite-paris-saclay.fr
DTSTART;TZID=Asia/Tokyo;VALUE=DATE:20260831
DTEND;TZID=Asia/Tokyo;VALUE=DATE:20260905
DTSTAMP:20260413T203541Z
URL:https://atst.osups.universite-paris-saclay.fr/calendrier/hinode19-sola
 r-c-meeting/
SUMMARY:Hinode-19 and SOLAR-C Science Meeting
DESCRIPTION:\n\n\n\nTo mark the 20th anniversary of Hinode\, this meeting i
 s organized as a forum to share the results achieved to date and to outlin
 e the research process leading to SOLAR-C. Researchers from Japan and abro
 ad will gather at Higashiyama Campus\, Nagoya University to discuss a wide
  range of topics\, including solar atmospheric heating\, flares\, and magn
 etic reconnection. They will also discuss collaborative observations with 
 Parker Solar Probe\, Solar Orbiter\, DKIST\, SUNRISE3 and so on. Through t
 hese discussions\, we aim to build a foundation for international research
  collaboration toward SOLAR-C\, while building on the legacy of Hinode.\n\
 n\n\n\n\n\n\nThe registration/abstract submission page for ‘Hinode-19 an
 d SOLAR-C Science Meeting’ is open now\, and the deadline for the abstra
 ct submission is 24:00 UTC on May 15\, 2026. Please register and submit yo
 ur abstract on the conference web page.\n\nLOC chair: Satoshi Masuda (ISEE
 \, Nagoya University)\n\n\n
CATEGORIES:Colloques, conférences et écoles
LOCATION:Nagoya\, Japan\, Nagoya\, Nagoya\, Japon
X-APPLE-STRUCTURED-LOCATION;VALUE=URI;X-ADDRESS=Nagoya\, Nagoya\, Japon;X-A
 PPLE-RADIUS=100;X-TITLE=Nagoya\, Japan:geo:0,0
END:VEVENT
BEGIN:VTIMEZONE
TZID:Asia/Tokyo
X-LIC-LOCATION:Asia/Tokyo
BEGIN:STANDARD
DTSTART:20250831T000000
TZOFFSETFROM:+0900
TZOFFSETTO:+0900
TZNAME:JST
END:STANDARD
END:VTIMEZONE
END:VCALENDAR