BEGIN:VCALENDAR
VERSION:2.0
PRODID:-//wp-events-plugin.com//7.2.3.1//EN
TZID:Europe/Paris
X-WR-TIMEZONE:Europe/Paris
BEGIN:VEVENT
UID:151@atst.osups.universite-paris-saclay.fr
DTSTART;TZID=Europe/Paris;VALUE=DATE:20260706
DTEND;TZID=Europe/Paris;VALUE=DATE:20260711
DTSTAMP:20260403T131759Z
URL:https://atst.osups.universite-paris-saclay.fr/calendrier/dynasun-3/
SUMMARY:3rd DynaSun meeting: Morphology and Evolution of Coronal Mass Eject
 ions
DESCRIPTION:The solar atmosphere is a dynamic system with phenomena includi
 ng solar flares\, coronal mass ejections\, magnetohydrodynamic (MHD) waves
 \, plasma oscillations and time-dependent heating. In Solar Physics\, we a
 re now living in the era of data intensive observations and so\, with the 
 right techniques and understanding\, we can start to address fundamental q
 uestions around the physical scenarios of energy releases and plasma heati
 ng.\nThe European Commission has recognised this challenge (and scientific
  opportunity) and so has created the DynaSun Network: Dynamics of the sola
 r corona in the era of data intensive observations. This international net
 work will discuss key challenges in solar physics\, including understandin
 g of mechanisms for plasma heating\, and energetics and physical scenarios
  of energy releases such as flares and coronal mass ejections.\nThis works
 hop will focus on waves\, oscillations\, particle acceleration and reconne
 ction associated with solar flares\, and the workshop will consist of cont
 ributed and invited talks covering these topics. The workshop will also in
 clude tutorials on advanced techniques associated with data intensive obse
 rvations. The presentations and tutorials will cover the latest research i
 n these areas\, including new and exciting observations from the STIX and 
 EUI instruments on-board Solar Orbiter. We also welcome presentations arou
 nd other relevant research topics.\n\nImportant dates:\n\n 	18th March 202
 6: Registration and Abstract submission opens (website)\n 	7th June 2026: 
 Registration and  Abstract submission closes\n 	6th July - 10th July 2026
 : DynaSun Meeting\n
CATEGORIES:Colloques, conférences et écoles
LOCATION:České Budějovice\, České Budějovice\, České Budějovice\, 
 France
X-APPLE-STRUCTURED-LOCATION;VALUE=URI;X-ADDRESS=České Budějovice\, Česk
 é Budějovice\, France;X-APPLE-RADIUS=100;X-TITLE=České Budějovice:geo
 :0,0
END:VEVENT
BEGIN:VTIMEZONE
TZID:Europe/Paris
X-LIC-LOCATION:Europe/Paris
BEGIN:DAYLIGHT
DTSTART:20260329T030000
TZOFFSETFROM:+0100
TZOFFSETTO:+0200
TZNAME:CEST
END:DAYLIGHT
END:VTIMEZONE
END:VCALENDAR